BEGIN:VCALENDAR
VERSION:2.0
PRODID:-//Freimaurerloge Vorwärts | i.O. Mönchengladbach - ECPv6.15.20//NONSGML v1.0//EN
CALSCALE:GREGORIAN
METHOD:PUBLISH
X-WR-CALNAME:Freimaurerloge Vorwärts | i.O. Mönchengladbach
X-ORIGINAL-URL:https://xn--loge-vorwrts-ocb.de
X-WR-CALDESC:Veranstaltungen für Freimaurerloge Vorwärts | i.O. Mönchengladbach
REFRESH-INTERVAL;VALUE=DURATION:PT1H
X-Robots-Tag:noindex
X-PUBLISHED-TTL:PT1H
BEGIN:VTIMEZONE
TZID:Europe/Berlin
BEGIN:DAYLIGHT
TZOFFSETFROM:+0100
TZOFFSETTO:+0200
TZNAME:CEST
DTSTART:20250330T010000
END:DAYLIGHT
BEGIN:STANDARD
TZOFFSETFROM:+0200
TZOFFSETTO:+0100
TZNAME:CET
DTSTART:20251026T010000
END:STANDARD
BEGIN:DAYLIGHT
TZOFFSETFROM:+0100
TZOFFSETTO:+0200
TZNAME:CEST
DTSTART:20260329T010000
END:DAYLIGHT
BEGIN:STANDARD
TZOFFSETFROM:+0200
TZOFFSETTO:+0100
TZNAME:CET
DTSTART:20261025T010000
END:STANDARD
BEGIN:DAYLIGHT
TZOFFSETFROM:+0100
TZOFFSETTO:+0200
TZNAME:CEST
DTSTART:20270328T010000
END:DAYLIGHT
BEGIN:STANDARD
TZOFFSETFROM:+0200
TZOFFSETTO:+0100
TZNAME:CET
DTSTART:20271031T010000
END:STANDARD
END:VTIMEZONE
BEGIN:VEVENT
DTSTART;TZID=Europe/Berlin:20260427T200000
DTEND;TZID=Europe/Berlin:20260427T220000
DTSTAMP:20260422T181156
CREATED:20260113T071517Z
LAST-MODIFIED:20260129T160708Z
UID:30775-1777320000-1777327200@xn--loge-vorwrts-ocb.de
SUMMARY:Suchendenabend
DESCRIPTION:Interessierte Herren melden sich bitte hier an.
URL:https://xn--loge-vorwrts-ocb.de/arbeitsplan/suchendenabend-3/
LOCATION:Logenhaus Mönchengladbach\, Hansastr. 97\, Mönchengladbach\, NRW\, 41066
CATEGORIES:Suchendenabend
END:VEVENT
BEGIN:VEVENT
DTSTART;TZID=Europe/Berlin:20260429T200000
DTEND;TZID=Europe/Berlin:20260429T220000
DTSTAMP:20260422T181156
CREATED:20260113T071547Z
LAST-MODIFIED:20260113T071547Z
UID:30777-1777492800-1777500000@xn--loge-vorwrts-ocb.de
SUMMARY:Freimaurerischer Gesprächskreis
DESCRIPTION:
URL:https://xn--loge-vorwrts-ocb.de/arbeitsplan/freimaurerischer-gespraechskreis-7/
LOCATION:Logenhaus Mönchengladbach\, Hansastr. 97\, Mönchengladbach\, NRW\, 41066
CATEGORIES:Freimaurerischer Gesprächskreis
END:VEVENT
BEGIN:VEVENT
DTSTART;TZID=Europe/Berlin:20260504T200000
DTEND;TZID=Europe/Berlin:20260504T220000
DTSTAMP:20260422T181156
CREATED:20260113T071625Z
LAST-MODIFIED:20260127T145703Z
UID:30779-1777924800-1777932000@xn--loge-vorwrts-ocb.de
SUMMARY:TA I°
DESCRIPTION:
URL:https://xn--loge-vorwrts-ocb.de/arbeitsplan/ta-i-4/
LOCATION:Logenhaus Mönchengladbach\, Hansastr. 97\, Mönchengladbach\, NRW\, 41066
CATEGORIES:TA
END:VEVENT
BEGIN:VEVENT
DTSTART;TZID=Europe/Berlin:20260511T190000
DTEND;TZID=Europe/Berlin:20260511T200000
DTSTAMP:20260422T181156
CREATED:20260113T071744Z
LAST-MODIFIED:20260127T151148Z
UID:30781-1778526000-1778529600@xn--loge-vorwrts-ocb.de
SUMMARY:Werklehre
DESCRIPTION:
URL:https://xn--loge-vorwrts-ocb.de/arbeitsplan/werklehre-beginn-1900-uhr-mit-anschl-erhebungsreferat/
LOCATION:Logenhaus Mönchengladbach\, Hansastr. 97\, Mönchengladbach\, NRW\, 41066
CATEGORIES:Werklehre
END:VEVENT
BEGIN:VEVENT
DTSTART;TZID=Europe/Berlin:20260511T200000
DTEND;TZID=Europe/Berlin:20260511T220000
DTSTAMP:20260422T181156
CREATED:20260127T151208Z
LAST-MODIFIED:20260127T151208Z
UID:30931-1778529600-1778536800@xn--loge-vorwrts-ocb.de
SUMMARY:Erhebungsreferat
DESCRIPTION:
URL:https://xn--loge-vorwrts-ocb.de/arbeitsplan/erhebungsreferat/
LOCATION:Logenhaus Mönchengladbach\, Hansastr. 97\, Mönchengladbach\, NRW\, 41066
CATEGORIES:Bruderabend
END:VEVENT
BEGIN:VEVENT
DTSTART;TZID=Europe/Berlin:20260518T200000
DTEND;TZID=Europe/Berlin:20260518T220000
DTSTAMP:20260422T181156
CREATED:20260113T071942Z
LAST-MODIFIED:20260113T071942Z
UID:30783-1779134400-1779141600@xn--loge-vorwrts-ocb.de
SUMMARY:Mitgliederversammlung mit Wahlloge
DESCRIPTION:
URL:https://xn--loge-vorwrts-ocb.de/arbeitsplan/mitgliederversammlung-mit-wahlloge/
LOCATION:Logenhaus Mönchengladbach\, Hansastr. 97\, Mönchengladbach\, NRW\, 41066
CATEGORIES:Bruderabend
END:VEVENT
BEGIN:VEVENT
DTSTART;TZID=Europe/Berlin:20260525T200000
DTEND;TZID=Europe/Berlin:20260525T220000
DTSTAMP:20260422T181156
CREATED:20260113T072025Z
LAST-MODIFIED:20260114T120250Z
UID:30785-1779739200-1779746400@xn--loge-vorwrts-ocb.de
SUMMARY:Pfingstmontag - Loge dunkel
DESCRIPTION:
URL:https://xn--loge-vorwrts-ocb.de/arbeitsplan/pfingstmontag-loge-dunkel/
LOCATION:NRW
CATEGORIES:Externe Veranstaltung
END:VEVENT
BEGIN:VEVENT
DTSTART;TZID=Europe/Berlin:20260527T200000
DTEND;TZID=Europe/Berlin:20260527T220000
DTSTAMP:20260422T181156
CREATED:20260113T072048Z
LAST-MODIFIED:20260113T072048Z
UID:30787-1779912000-1779919200@xn--loge-vorwrts-ocb.de
SUMMARY:Freimaurerischer Gesprächskreis
DESCRIPTION:
URL:https://xn--loge-vorwrts-ocb.de/arbeitsplan/freimaurerischer-gespraechskreis-8/
LOCATION:Logenhaus Mönchengladbach\, Hansastr. 97\, Mönchengladbach\, NRW\, 41066
CATEGORIES:Freimaurerischer Gesprächskreis
END:VEVENT
BEGIN:VEVENT
DTSTART;TZID=Europe/Berlin:20260601T200000
DTEND;TZID=Europe/Berlin:20260601T220000
DTSTAMP:20260422T181156
CREATED:20260113T072135Z
LAST-MODIFIED:20260127T145632Z
UID:30789-1780344000-1780351200@xn--loge-vorwrts-ocb.de
SUMMARY:TA III° mit Erhebung
DESCRIPTION:
URL:https://xn--loge-vorwrts-ocb.de/arbeitsplan/ta-iii-mit-erhebung/
LOCATION:Logenhaus Mönchengladbach\, Hansastr. 97\, Mönchengladbach\, NRW\, 41066
CATEGORIES:TA
END:VEVENT
BEGIN:VEVENT
DTSTART;TZID=Europe/Berlin:20260608T190000
DTEND;TZID=Europe/Berlin:20260608T200000
DTSTAMP:20260422T181156
CREATED:20260113T072223Z
LAST-MODIFIED:20260127T150707Z
UID:30791-1780945200-1780948800@xn--loge-vorwrts-ocb.de
SUMMARY:Werklehre
DESCRIPTION:
URL:https://xn--loge-vorwrts-ocb.de/arbeitsplan/werklehre-2/
LOCATION:Logenhaus Mönchengladbach\, Hansastr. 97\, Mönchengladbach\, NRW\, 41066
CATEGORIES:Werklehre
END:VEVENT
BEGIN:VEVENT
DTSTART;TZID=Europe/Berlin:20260608T200000
DTEND;TZID=Europe/Berlin:20260608T220000
DTSTAMP:20260422T181156
CREATED:20260127T150728Z
LAST-MODIFIED:20260127T150728Z
UID:30920-1780948800-1780956000@xn--loge-vorwrts-ocb.de
SUMMARY:Erste-Hilfe-Kurs
DESCRIPTION:
URL:https://xn--loge-vorwrts-ocb.de/arbeitsplan/erste-hilfe-kurs/
LOCATION:Logenhaus Mönchengladbach\, Hansastr. 97\, Mönchengladbach\, NRW\, 41066
CATEGORIES:Bruderabend
END:VEVENT
BEGIN:VEVENT
DTSTART;TZID=Europe/Berlin:20260615T200000
DTEND;TZID=Europe/Berlin:20260615T220000
DTSTAMP:20260422T181156
CREATED:20260113T072307Z
LAST-MODIFIED:20260113T072307Z
UID:30793-1781553600-1781560800@xn--loge-vorwrts-ocb.de
SUMMARY:Bruderabend mit Vortrag
DESCRIPTION:
URL:https://xn--loge-vorwrts-ocb.de/arbeitsplan/bruderabend-mit-vortrag/
LOCATION:Logenhaus Mönchengladbach\, Hansastr. 97\, Mönchengladbach\, NRW\, 41066
CATEGORIES:Bruderabend
END:VEVENT
BEGIN:VEVENT
DTSTART;TZID=Europe/Berlin:20260624T200000
DTEND;TZID=Europe/Berlin:20260624T220000
DTSTAMP:20260422T181156
CREATED:20260113T072505Z
LAST-MODIFIED:20260113T072505Z
UID:30797-1782331200-1782338400@xn--loge-vorwrts-ocb.de
SUMMARY:Freimaurerischer Gesprächskreis
DESCRIPTION:
URL:https://xn--loge-vorwrts-ocb.de/arbeitsplan/freimaurerischer-gespraechskreis-9/
LOCATION:Logenhaus Mönchengladbach\, Hansastr. 97\, Mönchengladbach\, NRW\, 41066
CATEGORIES:Freimaurerischer Gesprächskreis
END:VEVENT
BEGIN:VEVENT
DTSTART;TZID=Europe/Berlin:20260627T110000
DTEND;TZID=Europe/Berlin:20260627T233000
DTSTAMP:20260422T181156
CREATED:20260113T072425Z
LAST-MODIFIED:20260413T082038Z
UID:30795-1782558000-1782603000@xn--loge-vorwrts-ocb.de
SUMMARY:Johannisfest
DESCRIPTION:
URL:https://xn--loge-vorwrts-ocb.de/arbeitsplan/johannisfest/
LOCATION:Logenhaus Mönchengladbach\, Hansastr. 97\, Mönchengladbach\, NRW\, 41066
CATEGORIES:Johannisfest,TA
END:VEVENT
END:VCALENDAR